BEGIN:VCALENDAR
VERSION:2.0
PRODID:-//Vera&#039;s House Beautiful - ECPv6.15.15//NONSGML v1.0//EN
CALSCALE:GREGORIAN
METHOD:PUBLISH
X-WR-CALNAME:Vera&#039;s House Beautiful
X-ORIGINAL-URL:https://verashousebeautiful.com
X-WR-CALDESC:Events for Vera&#039;s House Beautiful
REFRESH-INTERVAL;VALUE=DURATION:PT1H
X-Robots-Tag:noindex
X-PUBLISHED-TTL:PT1H
BEGIN:VTIMEZONE
TZID:America/Denver
BEGIN:DAYLIGHT
TZOFFSETFROM:-0700
TZOFFSETTO:-0600
TZNAME:MDT
DTSTART:20240310T090000
END:DAYLIGHT
BEGIN:STANDARD
TZOFFSETFROM:-0600
TZOFFSETTO:-0700
TZNAME:MST
DTSTART:20241103T080000
END:STANDARD
BEGIN:DAYLIGHT
TZOFFSETFROM:-0700
TZOFFSETTO:-0600
TZNAME:MDT
DTSTART:20250309T090000
END:DAYLIGHT
BEGIN:STANDARD
TZOFFSETFROM:-0600
TZOFFSETTO:-0700
TZNAME:MST
DTSTART:20251102T080000
END:STANDARD
BEGIN:DAYLIGHT
TZOFFSETFROM:-0700
TZOFFSETTO:-0600
TZNAME:MDT
DTSTART:20260308T090000
END:DAYLIGHT
BEGIN:STANDARD
TZOFFSETFROM:-0600
TZOFFSETTO:-0700
TZNAME:MST
DTSTART:20261101T080000
END:STANDARD
END:VTIMEZONE
BEGIN:VEVENT
DTSTART;VALUE=DATE:20250711
DTEND;VALUE=DATE:20250713
DTSTAMP:20260424T041621
CREATED:20220426T142619Z
LAST-MODIFIED:20250624T141130Z
UID:5847-1752192000-1752364799@verashousebeautiful.com
SUMMARY:Garden Party
DESCRIPTION:YOU’RE INVITED TO OUR GARDEN PARTY!\nJuly 11TH & 12TH\, 10:00-4:00PM\n………………….\nStep into summer with a celebration of all things green and gorgeous!\nJoin us on the porch for refreshing sips\, sweet treats\, and a curated collection of:\n 🌿 New garden décor\n🪴 Beautiful aged planters\n🌱 Fresh greenery\n 🪑 Vintage cubbies\, furniture & more\nIt’s the perfect way to soak up some inspiration—and maybe a little sunshine too. See you there!\n\n\n\n\nClick here to see our Facebook event for sneak peeks!
URL:https://verashousebeautiful.com/event/secret-garden-party/
LOCATION:Vera’s House Beautiful\, 843 North Cleveland\, Loveland\, CO\, 80537\, United States
CATEGORIES:Misc
ATTACH;FMTTYPE=image/jpeg:https://verashousebeautiful.com/wp-content/uploads/2022/04/GP-2025.jpg
END:VEVENT
END:VCALENDAR