BEGIN:VCALENDAR
VERSION:2.0
PRODID:-//Vera&#039;s House Beautiful - ECPv6.15.15//NONSGML v1.0//EN
CALSCALE:GREGORIAN
METHOD:PUBLISH
X-WR-CALNAME:Vera&#039;s House Beautiful
X-ORIGINAL-URL:https://verashousebeautiful.com
X-WR-CALDESC:Events for Vera&#039;s House Beautiful
REFRESH-INTERVAL;VALUE=DURATION:PT1H
X-Robots-Tag:noindex
X-PUBLISHED-TTL:PT1H
BEGIN:VTIMEZONE
TZID:America/Denver
BEGIN:DAYLIGHT
TZOFFSETFROM:-0700
TZOFFSETTO:-0600
TZNAME:MDT
DTSTART:20180311T090000
END:DAYLIGHT
BEGIN:STANDARD
TZOFFSETFROM:-0600
TZOFFSETTO:-0700
TZNAME:MST
DTSTART:20181104T080000
END:STANDARD
BEGIN:DAYLIGHT
TZOFFSETFROM:-0700
TZOFFSETTO:-0600
TZNAME:MDT
DTSTART:20190310T090000
END:DAYLIGHT
BEGIN:STANDARD
TZOFFSETFROM:-0600
TZOFFSETTO:-0700
TZNAME:MST
DTSTART:20191103T080000
END:STANDARD
BEGIN:DAYLIGHT
TZOFFSETFROM:-0700
TZOFFSETTO:-0600
TZNAME:MDT
DTSTART:20200308T090000
END:DAYLIGHT
BEGIN:STANDARD
TZOFFSETFROM:-0600
TZOFFSETTO:-0700
TZNAME:MST
DTSTART:20201101T080000
END:STANDARD
END:VTIMEZONE
BEGIN:VEVENT
DTSTART;TZID=America/Denver:20190316T100000
DTEND;TZID=America/Denver:20190316T170000
DTSTAMP:20260423T134412
CREATED:20190123T214726Z
LAST-MODIFIED:20190306T154444Z
UID:2321-1552730400-1552755600@verashousebeautiful.com
SUMMARY:Spring Grand Reopening
DESCRIPTION:[vc_row][vc_column][vc_single_image image=”2318″ img_size=”full” alignment=”center”][vc_custom_heading text=”Save The Date!” font_container=”tag:h3|font_size:28|text_align:center” google_fonts=”font_family:Playfair%20Display%3Aregular%2Citalic%2C700%2C700italic%2C900%2C900italic|font_style:400%20regular%3A400%3Anormal” el_class=”uppercase spacing-2″ css=”.vc_custom_1548278914802{margin-bottom: 35px !important;}”][vc_column_text] \nSpring is here and we’re getting ready for our March Re-opening at Vera’s House Beautiful. You’re invited to the event on Friday\, March 15th and Saturday\, March 16th\, from 10am-5pm. See our new furniture\, clothing\, vintage items\, home decor and our spring and garden displays. Admission is free! \nWe Hope To See You Soon! \n[/vc_column_text][/vc_column][/vc_row][vc_row full_width=”stretch_row” content_placement=”top”][vc_column][vc_custom_heading text=”Featured Items” font_container=”tag:h3|font_size:28|text_align:center” google_fonts=”font_family:Playfair%20Display%3Aregular%2Citalic%2C700%2C700italic%2C900%2C900italic|font_style:400%20regular%3A400%3Anormal” el_class=”uppercase spacing-2″ css=”.vc_custom_1535058940776{margin-bottom: 35px !important;}”][vc_row_inner][vc_column_inner width=”1/2″][vc_column_text] \nHome Decor\nFurniture\nClothing\n[/vc_column_text][/vc_column_inner][vc_column_inner width=”1/2″][vc_column_text] \nVintage Items\nGarden Decor\nAnd More!\n[/vc_column_text][/vc_column_inner][/vc_row_inner][/vc_column][/vc_row][vc_row css=”.vc_custom_1526569056037{margin-top: 32px !important;}”][vc_column][vc_separator color=”custom” accent_color=”#b5b89a”][/vc_column][/vc_row][vc_row][vc_column][vc_media_grid grid_id=”vc_gid:1551887045947-0958ef75-b340-3″ include=”2354\,2315\,2317\,2313\,2310\,2311\,2352\,2353\,2355\,2356\,2357\,2358″][/vc_column][/vc_row]
URL:https://verashousebeautiful.com/event/spring-grand-reopening-2/
LOCATION:Vera’s House Beautiful\, 843 North Cleveland\, Loveland\, CO\, 80537\, United States
CATEGORIES:Sale
END:VEVENT
BEGIN:VEVENT
DTSTART;TZID=America/Denver:20190315T100000
DTEND;TZID=America/Denver:20190315T170000
DTSTAMP:20260423T134412
CREATED:20190123T214633Z
LAST-MODIFIED:20190306T154513Z
UID:2295-1552644000-1552669200@verashousebeautiful.com
SUMMARY:Spring Grand Reopening
DESCRIPTION:[vc_row][vc_column][vc_single_image image=”2318″ img_size=”full” alignment=”center”][vc_custom_heading text=”Save The Date!” font_container=”tag:h3|font_size:28|text_align:center” google_fonts=”font_family:Playfair%20Display%3Aregular%2Citalic%2C700%2C700italic%2C900%2C900italic|font_style:400%20regular%3A400%3Anormal” el_class=”uppercase spacing-2″ css=”.vc_custom_1548278914802{margin-bottom: 35px !important;}”][vc_column_text] \nSpring is here and we’re getting ready for our March Re-opening at Vera’s House Beautiful. You’re invited to the event on Friday\, March 15th and Saturday\, March 16th\, from 10am-5pm. See our new furniture\, clothing\, vintage items\, home decor and our spring and garden displays. Admission is free! \nWe Hope To See You Soon! \n[/vc_column_text][/vc_column][/vc_row][vc_row full_width=”stretch_row” content_placement=”top”][vc_column][vc_custom_heading text=”Featured Items” font_container=”tag:h3|font_size:28|text_align:center” google_fonts=”font_family:Playfair%20Display%3Aregular%2Citalic%2C700%2C700italic%2C900%2C900italic|font_style:400%20regular%3A400%3Anormal” el_class=”uppercase spacing-2″ css=”.vc_custom_1535058940776{margin-bottom: 35px !important;}”][vc_row_inner][vc_column_inner width=”1/2″][vc_column_text] \nHome Decor\nFurniture\nClothing\n[/vc_column_text][/vc_column_inner][vc_column_inner width=”1/2″][vc_column_text] \nVintage Items\nGarden Decor\nAnd More!\n[/vc_column_text][/vc_column_inner][/vc_row_inner][/vc_column][/vc_row][vc_row css=”.vc_custom_1526569056037{margin-top: 32px !important;}”][vc_column][vc_separator color=”custom” accent_color=”#b5b89a”][/vc_column][/vc_row][vc_row][vc_column][vc_media_grid grid_id=”vc_gid:1551887095515-be27b5a1-20f3-6″ include=”2354\,2315\,2317\,2313\,2310\,2311\,2352\,2353\,2355\,2356\,2357\,2358″][/vc_column][/vc_row]
URL:https://verashousebeautiful.com/event/spring-grand-reopening/
LOCATION:Vera’s House Beautiful\, 843 North Cleveland\, Loveland\, CO\, 80537\, United States
CATEGORIES:Sale
END:VEVENT
END:VCALENDAR