BEGIN:VCALENDAR
VERSION:2.0
PRODID:-//Vera&#039;s House Beautiful - ECPv6.15.15//NONSGML v1.0//EN
CALSCALE:GREGORIAN
METHOD:PUBLISH
X-ORIGINAL-URL:https://verashousebeautiful.com
X-WR-CALDESC:Events for Vera&#039;s House Beautiful
REFRESH-INTERVAL;VALUE=DURATION:PT1H
X-Robots-Tag:noindex
X-PUBLISHED-TTL:PT1H
BEGIN:VTIMEZONE
TZID:America/Denver
BEGIN:DAYLIGHT
TZOFFSETFROM:-0700
TZOFFSETTO:-0600
TZNAME:MDT
DTSTART:20240310T090000
END:DAYLIGHT
BEGIN:STANDARD
TZOFFSETFROM:-0600
TZOFFSETTO:-0700
TZNAME:MST
DTSTART:20241103T080000
END:STANDARD
BEGIN:DAYLIGHT
TZOFFSETFROM:-0700
TZOFFSETTO:-0600
TZNAME:MDT
DTSTART:20250309T090000
END:DAYLIGHT
BEGIN:STANDARD
TZOFFSETFROM:-0600
TZOFFSETTO:-0700
TZNAME:MST
DTSTART:20251102T080000
END:STANDARD
BEGIN:DAYLIGHT
TZOFFSETFROM:-0700
TZOFFSETTO:-0600
TZNAME:MDT
DTSTART:20260308T090000
END:DAYLIGHT
BEGIN:STANDARD
TZOFFSETFROM:-0600
TZOFFSETTO:-0700
TZNAME:MST
DTSTART:20261101T080000
END:STANDARD
END:VTIMEZONE
BEGIN:VEVENT
DTSTART;TZID=America/Denver:20250913T090000
DTEND;TZID=America/Denver:20250913T150000
DTSTAMP:20260423T222336
CREATED:20180517T155734Z
LAST-MODIFIED:20250812T231045Z
UID:1834-1757754000-1757775600@verashousebeautiful.com
SUMMARY:Vera's Fall Outdoor  Market
DESCRIPTION:[vc_row][vc_column][vc_column_text css=””]Mark your calendars for Vera’s Outdoor Vintage Market on Saturday\, September\, 13th from 9am – 3pm.  Vera handpicks market vendors with a unique style and provides a wide variety of vintage items for shoppers. This is a not-to-be-missed event. No tickets required –  See you there![/vc_column_text][/vc_column][/vc_row][vc_row full_width=”stretch_row” content_placement=”top” css=”.vc_custom_1526568612368{padding-top: 16px !important;}”][vc_column][vc_custom_heading text=”Featured Market Items” font_container=”tag:h3|font_size:28|text_align:center” google_fonts=”font_family:Playfair%20Display%3Aregular%2Citalic%2C700%2C700italic%2C900%2C900italic|font_style:400%20regular%3A400%3Anormal” css=”.vc_custom_1526581409859{margin-bottom: 35px !important;}” el_class=”uppercase spacing-2″][vc_row_inner][vc_column_inner width=”1/3″][vc_column_text] \nHome Decor\nFarm Furniture\n[/vc_column_text][/vc_column_inner][vc_column_inner width=”1/3″][vc_column_text] \nClothing & Accessories\nAntiques\nOutdoor Living & Garden Decor\n[/vc_column_text][/vc_column_inner][vc_column_inner width=”1/3″][vc_column_text] \nCrafts\nFood\n[/vc_column_text][/vc_column_inner][/vc_row_inner][/vc_column][/vc_row][vc_row css=”.vc_custom_1526569056037{margin-top: 32px !important;}”][vc_column][vc_separator color=”custom” accent_color=”#b5b89a”][/vc_column][/vc_row][vc_row disable_element=”yes” css=”.vc_custom_1723506740203{margin-bottom: 16px !important;}”][vc_column][vc_custom_heading text=”Would You Like To Be A Vendor?” font_container=”tag:h3|font_size:28|text_align:center” google_fonts=”font_family:Playfair%20Display%3Aregular%2Citalic%2C700%2C700italic%2C900%2C900italic|font_style:400%20regular%3A400%3Anormal” css=”.vc_custom_1526581821763{margin-bottom: 35px !important;}” el_class=”uppercase spacing-2″][vc_column_text css=””]We are very excited about this year’s fall market! If you are interested in being a vendor\, please click the button below and complete the application by August 1\, 2025.[/vc_column_text]Fall Market Vendor Application[/vc_column][/vc_row]
URL:https://verashousebeautiful.com/event/fall-vinatge-outdoor-market/
LOCATION:Vera’s House Beautiful\, 843 North Cleveland\, Loveland\, CO\, 80537\, United States
CATEGORIES:Outdoor Market
ATTACH;FMTTYPE=image/jpeg:https://verashousebeautiful.com/wp-content/uploads/2018/05/banner.jpg
END:VEVENT
END:VCALENDAR