BEGIN:VCALENDAR
VERSION:2.0
PRODID:-//Vera&#039;s House Beautiful - ECPv6.15.15//NONSGML v1.0//EN
CALSCALE:GREGORIAN
METHOD:PUBLISH
X-ORIGINAL-URL:https://verashousebeautiful.com
X-WR-CALDESC:Events for Vera&#039;s House Beautiful
REFRESH-INTERVAL;VALUE=DURATION:PT1H
X-Robots-Tag:noindex
X-PUBLISHED-TTL:PT1H
BEGIN:VTIMEZONE
TZID:America/Denver
BEGIN:DAYLIGHT
TZOFFSETFROM:-0700
TZOFFSETTO:-0600
TZNAME:MDT
DTSTART:20250309T090000
END:DAYLIGHT
BEGIN:STANDARD
TZOFFSETFROM:-0600
TZOFFSETTO:-0700
TZNAME:MST
DTSTART:20251102T080000
END:STANDARD
BEGIN:DAYLIGHT
TZOFFSETFROM:-0700
TZOFFSETTO:-0600
TZNAME:MDT
DTSTART:20260308T090000
END:DAYLIGHT
BEGIN:STANDARD
TZOFFSETFROM:-0600
TZOFFSETTO:-0700
TZNAME:MST
DTSTART:20261101T080000
END:STANDARD
BEGIN:DAYLIGHT
TZOFFSETFROM:-0700
TZOFFSETTO:-0600
TZNAME:MDT
DTSTART:20270314T090000
END:DAYLIGHT
BEGIN:STANDARD
TZOFFSETFROM:-0600
TZOFFSETTO:-0700
TZNAME:MST
DTSTART:20271107T080000
END:STANDARD
END:VTIMEZONE
BEGIN:VEVENT
DTSTART;TZID=America/Denver:20260320T100000
DTEND;TZID=America/Denver:20260321T160000
DTSTAMP:20260423T133312
CREATED:20230101T204917Z
LAST-MODIFIED:20260211T154321Z
UID:4715-1774000800-1774108800@verashousebeautiful.com
SUMMARY:Spring Re-Opening
DESCRIPTION:[vc_row][vc_column][vc_custom_heading text=”Freshen Up Your Home” font_container=”tag:h2|text_align:center”][vc_column_text css=””] \nYou’re invited to our Spring Re-Opening on March 20th & 21st from 10:00 am to 4:00 pm. Find all your spring decor trends new & vintage! Make sure to bring your friends! \n[/vc_column_text][/vc_column][/vc_row][vc_row][vc_column][vc_custom_heading text=”Featured Items” font_container=”tag:h2|text_align:center”][/vc_column][/vc_row][vc_row][vc_column width=”1/2″][vc_column_text] \nSpring Wreaths\nFlowers & Pots\nGarden Decorations\nGifts\n[/vc_column_text][/vc_column][vc_column width=”1/2″][vc_column_text] \nFurniture\nHomeware\nVintage Finds\nSoaps & Candles\n[/vc_column_text][/vc_column][/vc_row][vc_row][vc_column][vc_separator][/vc_column][/vc_row][vc_row][vc_column][vc_media_grid grid_id=”vc_gid:1770824465488-19bfea63-bc33-2″ include=”8288\,8292\,2512\,8289\,8293\,8290\,2515\,3015\,3014″][/vc_column][/vc_row]
URL:https://verashousebeautiful.com/event/spring-re-opening/
CATEGORIES:Festival,Misc,Sale
ATTACH;FMTTYPE=image/jpeg:https://verashousebeautiful.com/wp-content/uploads/2023/01/Spring-Reopening-sq.jpg
END:VEVENT
END:VCALENDAR